BEGIN:VCALENDAR
VERSION:2.0
PRODID:https://sei.jetzt
NAME:sei.jetzt
X-WR-CALNAME:sei.jetzt
BEGIN:VTIMEZONE
TZID:Europe/Berlin
BEGIN:DAYLIGHT
DTSTART:20260329T020000
TZOFFSETFROM:+0100
TZOFFSETTO:+0200
END:DAYLIGHT
BEGIN:STANDARD
DTSTART:20261025T030000
TZOFFSETFROM:+0200
TZOFFSETTO:+0100
END:STANDARD
END:VTIMEZONE
BEGIN:VTIMEZONE
TZID:UTC
BEGIN:STANDARD
DTSTART:20250721T210513
TZOFFSETFROM:+0000
TZOFFSETTO:+0000
END:STANDARD
END:VTIMEZONE
BEGIN:VEVENT
UID:019d9d43-1a4d-7122-887e-1a0e961e946d@sei.jetzt
DTSTAMP:20260417T210513Z
DTSTART;TZID=Europe/Berlin:20260730T100000
DTEND;TZID=Europe/Berlin:20260802T130000
SUMMARY:Ferien vom ICH • Hallo SELBST.
DESCRIPTION:Hast du manchmal auch den Wunsch nach dem wohligen Gefühl der 
 inneren Stille?\nFühlst du in dir das tiefe Sehnen nach Freude?\nSpürst 
 du das lebendige Vibrieren in jeder Zelle deines Körper?\nDie Welt is...
STATUS:CONFIRMED
URL:https://sei.jetzt/event/2026-07-30-ferien-vom-ich-hallo-selbst?organiza
 tion=ich-bin
LOCATION:Dorfstraße 10\, 37574 Einbeck
GEO:51.8101546;9.8222791
X-APPLE-STRUCTURED-LOCATION;VALUE=URI;X-ADDRESS=Dorfstraße 10\, 37574 Einb
 eck;X-APPLE-RADIUS=72;X-TITLE=Seminarhaus Huldersun:geo:51.8101546,9.82227
 91
ORGANIZER;CN=ICH BIN:MAILTO:mail@mandygoehler.com
BEGIN:VALARM
ACTION:DISPLAY
TRIGGER:-PT1440M
DESCRIPTION:Event starts tomorrow
END:VALARM
END:VEVENT
END:VCALENDAR