BEGIN:VCALENDAR
VERSION:2.0
PRODID:https://sei.jetzt
NAME:sei.jetzt
X-WR-CALNAME:sei.jetzt
BEGIN:VTIMEZONE
TZID:Europe/Berlin
BEGIN:STANDARD
DTSTART:20251026T030000
TZOFFSETFROM:+0200
TZOFFSETTO:+0100
END:STANDARD
BEGIN:DAYLIGHT
DTSTART:20260329T020000
TZOFFSETFROM:+0100
TZOFFSETTO:+0200
END:DAYLIGHT
BEGIN:STANDARD
DTSTART:20261025T030000
TZOFFSETFROM:+0200
TZOFFSETTO:+0100
END:STANDARD
END:VTIMEZONE
BEGIN:VTIMEZONE
TZID:UTC
BEGIN:STANDARD
DTSTART:20250724T210011
TZOFFSETFROM:+0000
TZOFFSETTO:+0000
END:STANDARD
END:VTIMEZONE
BEGIN:VEVENT
UID:019dacb1-913f-738a-962a-f827435006e9@sei.jetzt
DTSTAMP:20260420T210011Z
DTSTART;TZID=Europe/Berlin:20260503T100000
DTEND;TZID=Europe/Berlin:20260503T120000
SUMMARY:A BODY TO HONOUR FLOW - verbinde dich mit dir selbst.
DESCRIPTION:Ein Raum\, in dem du zurück in deinen Körper findest.\nIm A B
 ODY TO HONOUR FLOW geht es nicht um Leistung oder Perfektion –\nsondern 
 darum\, deinen Körper als das zu erfahren\, was er ist:\ndein Zuhause.\nD
 u...
STATUS:CONFIRMED
URL:https://sei.jetzt/event/2026-05-03-a-body-to-honour-flow-verbinde-dich-
 mit-dir-selbst?organization=yoga-embodiment-mit-wiebke
LOCATION:Klosterstraße 27\, 49074 Osnabrück
GEO:52.2808211;8.0516456
X-APPLE-STRUCTURED-LOCATION;VALUE=URI;X-ADDRESS=Klosterstraße 27\, 49074 O
 snabrück;X-APPLE-RADIUS=72;X-TITLE=K27:geo:52.2808211,8.0516456
ORGANIZER;CN=Yoga & Embodiment mit Wiebke :MAILTO:hallo@wiebke-embodiment.d
 e
BEGIN:VALARM
ACTION:DISPLAY
TRIGGER:-PT1440M
DESCRIPTION:Event starts tomorrow
END:VALARM
END:VEVENT
END:VCALENDAR