BEGIN:VCALENDAR
VERSION:2.0
PRODID:https://sei.jetzt
NAME:sei.jetzt
X-WR-CALNAME:sei.jetzt
BEGIN:VTIMEZONE
TZID:Europe/Berlin
BEGIN:STANDARD
DTSTART:20251026T030000
TZOFFSETFROM:+0200
TZOFFSETTO:+0100
END:STANDARD
BEGIN:DAYLIGHT
DTSTART:20260329T020000
TZOFFSETFROM:+0100
TZOFFSETTO:+0200
END:DAYLIGHT
BEGIN:STANDARD
DTSTART:20261025T030000
TZOFFSETFROM:+0200
TZOFFSETTO:+0100
END:STANDARD
END:VTIMEZONE
BEGIN:VTIMEZONE
TZID:UTC
BEGIN:STANDARD
DTSTART:20250717T165028
TZOFFSETFROM:+0000
TZOFFSETTO:+0000
END:STANDARD
END:VTIMEZONE
BEGIN:VEVENT
UID:019d87c0-6e6e-7346-b507-d53ddcb5dab6@sei.jetzt
DTSTAMP:20260413T165028Z
DTSTART;TZID=Europe/Berlin:20260502T143000
DTEND;TZID=Europe/Berlin:20260502T160000
SUMMARY:Kopfstand Workshop
DESCRIPTION:Ein Raum\, in dem du lernst\, deinen Kopfstand sicher\, kontrol
 liert und in deinem Tempo aufzubauen.\nKopfstand ist kein Moment.\nEs ist 
 ein Zusammenspiel aus Ausrichtung\, Kraft und Vertrauen.\nIn diesem Wo...\
 n\n🎫 10 seats available
STATUS:CONFIRMED
URL:https://sei.jetzt/event/2026-05-02-kopfstand-workshop?organization=leni
 -reconnecting-with-nature-and-yourself
LOCATION:Am Mittelhafen 42\, 48155 Münster
GEO:51.9503417;7.6441561
X-APPLE-STRUCTURED-LOCATION;VALUE=URI;X-ADDRESS=Am Mittelhafen 42\, 48155 M
 ünster;X-APPLE-RADIUS=72;X-TITLE=Bewegungsraum in der B-Side:geo:51.95034
 17,7.6441561
ORGANIZER;CN=Leni RECONNECTING with nature and yourself :MAILTO:hello@leni.
 ms
BEGIN:VALARM
ACTION:DISPLAY
TRIGGER:-PT1440M
DESCRIPTION:Event starts tomorrow
END:VALARM
END:VEVENT
END:VCALENDAR