BEGIN:VCALENDAR
VERSION:2.0
PRODID:https://sei.jetzt
NAME:sei.jetzt
X-WR-CALNAME:sei.jetzt
BEGIN:VTIMEZONE
TZID:Europe/Berlin
BEGIN:STANDARD
DTSTART:20251026T030000
TZOFFSETFROM:+0200
TZOFFSETTO:+0100
END:STANDARD
BEGIN:DAYLIGHT
DTSTART:20260329T020000
TZOFFSETFROM:+0100
TZOFFSETTO:+0200
END:DAYLIGHT
BEGIN:STANDARD
DTSTART:20261025T030000
TZOFFSETFROM:+0200
TZOFFSETTO:+0100
END:STANDARD
END:VTIMEZONE
BEGIN:VTIMEZONE
TZID:UTC
BEGIN:STANDARD
DTSTART:20250726T075341
TZOFFSETFROM:+0000
TZOFFSETTO:+0000
END:STANDARD
END:VTIMEZONE
BEGIN:VEVENT
UID:019db42e-3913-729e-9d9b-bb3f68604977@sei.jetzt
DTSTAMP:20260422T075341Z
DTSTART;TZID=Europe/Berlin:20260502T180000
DTEND;TZID=Europe/Berlin:20260502T193000
SUMMARY:KAKAO ZEREMONIE & Yin Yoga 
DESCRIPTION:Am 02.05. von 18:00 – 19:30 Uhr lade ich dich herzlich zu ein
 er besonderen Kakao Zeremonie ein.\nGemeinsam tauchen wir in die sanfte\, 
 herzöffnende Wirkung des zeremoniellen Kakaos ein. In einem geschüt...
STATUS:CONFIRMED
URL:https://sei.jetzt/event/2026-05-02-kakao-zeremonie-yin-yoga?organizatio
 n=selina-gabriel-coaching-hypnose
LOCATION:Randweg 17\, 33129 Delbrück
GEO:51.7502721;8.4144849
X-APPLE-STRUCTURED-LOCATION;VALUE=URI;X-ADDRESS=Randweg 17\, 33129 Delbrüc
 k;X-APPLE-RADIUS=72;X-TITLE=Delbrück:geo:51.7502721,8.4144849
ORGANIZER;CN=Selina Gabriel Coaching & Hypnose:MAILTO:retreat@selinagabriel
 .de
BEGIN:VALARM
ACTION:DISPLAY
TRIGGER:-PT1440M
DESCRIPTION:Event starts tomorrow
END:VALARM
END:VEVENT
END:VCALENDAR