BEGIN:VCALENDAR
VERSION:2.0
PRODID:https://sei.jetzt
NAME:sei.jetzt
X-WR-CALNAME:sei.jetzt
BEGIN:VTIMEZONE
TZID:Europe/Berlin
BEGIN:STANDARD
DTSTART:20251026T030000
TZOFFSETFROM:+0200
TZOFFSETTO:+0100
END:STANDARD
BEGIN:DAYLIGHT
DTSTART:20260329T020000
TZOFFSETFROM:+0100
TZOFFSETTO:+0200
END:DAYLIGHT
BEGIN:STANDARD
DTSTART:20261025T030000
TZOFFSETFROM:+0200
TZOFFSETTO:+0100
END:STANDARD
END:VTIMEZONE
BEGIN:VTIMEZONE
TZID:UTC
BEGIN:STANDARD
DTSTART:20250724T132021
TZOFFSETFROM:+0000
TZOFFSETTO:+0000
END:STANDARD
END:VTIMEZONE
BEGIN:VEVENT
UID:019dab0c-928a-70ef-abb8-29f678d89372@sei.jetzt
DTSTAMP:20260420T132021Z
DTSTART;TZID=Europe/Berlin:20260425T100000
DTEND;TZID=Europe/Berlin:20260425T140000
SUMMARY:Dance Research
DESCRIPTION:Thema: Erde\nBei Dance Research geht es nicht um Performance. E
 s geht ums Erleben. Wie fühlt es sich an\, wirklich geerdet zu sein? Was 
 passiert in dir\, wenn Vertrauen da ist – oder fehlt? Wie wäre es\,...
STATUS:CONFIRMED
URL:https://sei.jetzt/event/2026-04-25-dance-research?organization=felix-wi
 rsing
LOCATION:Klosterstraße 27\, 49074 Osnabrück
GEO:52.2808211;8.0516456
X-APPLE-STRUCTURED-LOCATION;VALUE=URI;X-ADDRESS=Klosterstraße 27\, 49074 O
 snabrück;X-APPLE-RADIUS=72;X-TITLE=K27:geo:52.2808211,8.0516456
ORGANIZER;CN=Felix Wirsing:MAILTO:mail@felix-wirsing.de
BEGIN:VALARM
ACTION:DISPLAY
TRIGGER:-PT1440M
DESCRIPTION:Event starts tomorrow
END:VALARM
END:VEVENT
END:VCALENDAR