BEGIN:VCALENDAR
VERSION:2.0
PRODID:https://sei.jetzt
NAME:sei.jetzt
X-WR-CALNAME:sei.jetzt
BEGIN:VTIMEZONE
TZID:Europe/Berlin
BEGIN:STANDARD
DTSTART:20251026T030000
TZOFFSETFROM:+0200
TZOFFSETTO:+0100
END:STANDARD
BEGIN:DAYLIGHT
DTSTART:20260329T020000
TZOFFSETFROM:+0100
TZOFFSETTO:+0200
END:DAYLIGHT
BEGIN:STANDARD
DTSTART:20261025T030000
TZOFFSETFROM:+0200
TZOFFSETTO:+0100
END:STANDARD
END:VTIMEZONE
BEGIN:VTIMEZONE
TZID:UTC
BEGIN:STANDARD
DTSTART:20250420T193626
TZOFFSETFROM:+0000
TZOFFSETTO:+0000
END:STANDARD
END:VTIMEZONE
BEGIN:VEVENT
UID:a0d83beb-6ae4-4f93-917f-a6a1e5d37c2e@sei.jetzt
DTSTAMP:20260115T193626Z
DTSTART;TZID=Europe/Berlin:20260423T203000
DTEND;TZID=Europe/Berlin:20260423T220000
SUMMARY:SONG SHARING CIRCLE
DESCRIPTION:Im SONG SHARING CIRCLE stellst du einen Song von dir vor. An je
 dem Termin einen pro Person. Du begleitest dich selbst\, wenn du singst od
 er sprichst mit einem Instrument - oder mit irgendwas anderem od...\n\n
 🎫 6 seats available
STATUS:CONFIRMED
URL:https://sei.jetzt/event/2026-04-23-song-sharing-circle?organization=lob
 stacisum
LOCATION:Klosterstraße 27\, 49074 Osnabrück
GEO:52.2808211;8.0516456
X-APPLE-STRUCTURED-LOCATION;VALUE=URI;X-ADDRESS=Klosterstraße 27\, 49074 O
 snabrück;X-APPLE-RADIUS=72;X-TITLE=K27:geo:52.2808211,8.0516456
ORGANIZER;CN=LOBSTAcisum:MAILTO:charlotte.wagner83@gmx.de
BEGIN:VALARM
ACTION:DISPLAY
TRIGGER:-PT1440M
DESCRIPTION:Event starts tomorrow
END:VALARM
END:VEVENT
END:VCALENDAR